BEGIN:VCALENDAR
VERSION:2.0
PRODID:-//94.130.255.168//NONSGML kigkonsult.se iCalcreator 2.20//
CALSCALE:GREGORIAN
METHOD:PUBLISH
X-WR-TIMEZONE:UTC
BEGIN:VEVENT
UID:event323@SKK Mörslingen
DTSTAMP:20260424T155647Z
CATEGORIES:Punktspiel Jugend U14
DESCRIPTION:SKK Mörslingen - TSV Rain\nKategorie: Punktspiel Jugend U14\nIC
 S-Link: https://www.skk-moerslingen.de/index.php?option=com_jem&view=event
 &id=323:skk-moerslingen-tsv-rain\n
DTSTART:20130308T170000Z
DTEND:20130308T170000Z
LOCATION:Landgasthof „Zum Schlössle'\,Am Schößle 1\,89435 Finningen
SUMMARY:SKK Mörslingen - TSV Rain
URL:https://www.skk-moerslingen.de/index.php?option=com_jem&view=event&id=3
 23:skk-moerslingen-tsv-rain
END:VEVENT
END:VCALENDAR