BEGIN:VCALENDAR
VERSION:2.0
PRODID:-//94.130.255.168//NONSGML kigkonsult.se iCalcreator 2.20//
CALSCALE:GREGORIAN
METHOD:PUBLISH
X-WR-TIMEZONE:UTC
BEGIN:VEVENT
UID:event2262@SKK Mörslingen
DTSTAMP:20260420T140755Z
CATEGORIES:Bezirksmeisterschaften 2026
DESCRIPTION:Bezirksmeisterschaften Tandem international\nKategorie: Bezirks
 meisterschaften 2026\nICS-Link: https://www.skk-moerslingen.de/index.php?o
 ption=com_jem&view=event&id=2262:bezirksmeisterschaften-tandem-internation
 al\n
DTSTART;VALUE=DATE:20260426
DTEND;VALUE=DATE:20260427
LOCATION:Stadthalle zum Stadtwirt Schwabmünchen\,Breitweg 20\,86830 Schwabm
 ünchen
SUMMARY:Bezirksmeisterschaften Tandem international
URL:https://www.skk-moerslingen.de/index.php?option=com_jem&view=event&id=2
 262:bezirksmeisterschaften-tandem-international
END:VEVENT
END:VCALENDAR