BEGIN:VCALENDAR
VERSION:2.0
PRODID:-//94.130.255.168//NONSGML kigkonsult.se iCalcreator 2.20//
CALSCALE:GREGORIAN
METHOD:PUBLISH
X-WR-TIMEZONE:UTC
BEGIN:VEVENT
UID:event2261@SKK Mörslingen
DTSTAMP:20260420T164005Z
CATEGORIES:Bezirksmeisterschaften 2026
DESCRIPTION:Bezirmeisterschaften Sprint Frauen\nKategorie: Bezirksmeistersc
 haften 2026\nICS-Link: https://www.skk-moerslingen.de/index.php?option=com
 _jem&view=event&id=2261:bezirmeisterschaften-sprint-frauen\n
DTSTART;VALUE=DATE:20260425
DTEND;VALUE=DATE:20260426
LOCATION:Stadthalle zum Stadtwirt Schwabmünchen\,Breitweg 20\,86830 Schwabm
 ünchen
SUMMARY:Bezirmeisterschaften Sprint Frauen
URL:https://www.skk-moerslingen.de/index.php?option=com_jem&view=event&id=2
 261:bezirmeisterschaften-sprint-frauen
END:VEVENT
END:VCALENDAR