BEGIN:VCALENDAR
VERSION:2.0
PRODID:-//94.130.255.168//NONSGML kigkonsult.se iCalcreator 2.20//
CALSCALE:GREGORIAN
METHOD:PUBLISH
X-WR-TIMEZONE:UTC
BEGIN:VEVENT
UID:event2255@SKK Mörslingen
DTSTAMP:20260421T100308Z
CATEGORIES:Spielerversammlungen 2025-2026
DESCRIPTION:Spielerversammlung mit Top-Vier-Turnier\nKategorie: Spielervers
 ammlungen 2025-2026\nICS-Link: https://www.skk-moerslingen.de/index.php?op
 tion=com_jem&view=event&id=2255:spielerversammlung-mit-top-vier-turnier\n
DTSTART:20260326T200000Z
DTEND:20260326T200000Z
LOCATION:Landgasthof „Zum Schlössle'\,Am Schößle 1\,89435 Finningen
SUMMARY:Spielerversammlung mit Top-Vier-Turnier
URL:https://www.skk-moerslingen.de/index.php?option=com_jem&view=event&id=2
 255:spielerversammlung-mit-top-vier-turnier
END:VEVENT
END:VCALENDAR