BEGIN:VCALENDAR
VERSION:2.0
PRODID:-//94.130.255.168//NONSGML kigkonsult.se iCalcreator 2.20//
CALSCALE:GREGORIAN
METHOD:PUBLISH
X-WR-TIMEZONE:UTC
BEGIN:VEVENT
UID:event2003@SKK Mörslingen
DTSTAMP:20260423T210715Z
CATEGORIES:Bayerische Meisterschaften 2024
DESCRIPTION:Bayerische Meisterschaften Senioren\nKategorie: Bayerische Meis
 terschaften 2024\nICS-Link: https://www.skk-moerslingen.de/index.php?optio
 n=com_jem&view=event&id=2003:bayerische-meisterschaften-senioren\n
DTSTART;VALUE=DATE:20240608
DTEND;VALUE=DATE:20240610
LOCATION:Sportpark Hirschau\,Wolfgang-Droßbach-Straße 77\,92242 Hirschau
SUMMARY:Bayerische Meisterschaften Senioren
URL:https://www.skk-moerslingen.de/index.php?option=com_jem&view=event&id=2
 003:bayerische-meisterschaften-senioren
END:VEVENT
END:VCALENDAR