BEGIN:VCALENDAR
VERSION:2.0
PRODID:-//94.130.255.168//NONSGML kigkonsult.se iCalcreator 2.20//
CALSCALE:GREGORIAN
METHOD:PUBLISH
X-WR-TIMEZONE:UTC
BEGIN:VEVENT
UID:event2000@SKK Mörslingen
DTSTAMP:20260423T212708Z
CATEGORIES:Bayerische Meisterschaften 2024
DESCRIPTION:Bayerische Meisterschaften Seniorinnen\nKategorie: Bayerische M
 eisterschaften 2024\nICS-Link: https://www.skk-moerslingen.de/index.php?op
 tion=com_jem&view=event&id=2000:bayerische-meisterschaften-seniorinnen\n
DTSTART;VALUE=DATE:20240608
DTEND;VALUE=DATE:20240610
LOCATION:Kegelhalle Straubing\,Am Peterswöhrd 8\,94315 Straubing
SUMMARY:Bayerische Meisterschaften Seniorinnen
URL:https://www.skk-moerslingen.de/index.php?option=com_jem&view=event&id=2
 000:bayerische-meisterschaften-seniorinnen
END:VEVENT
END:VCALENDAR