BEGIN:VCALENDAR
VERSION:2.0
PRODID:-//94.130.255.168//NONSGML kigkonsult.se iCalcreator 2.20//
CALSCALE:GREGORIAN
METHOD:PUBLISH
X-WR-TIMEZONE:UTC
BEGIN:VEVENT
UID:event1913@SKK Mörslingen
DTSTAMP:20260420T165100Z
CATEGORIES:Pokalspiel
DESCRIPTION:Vorentscheid Kreisklassenpokal\nKategorie: Pokalspiel\nICS-Link
 : https://www.skk-moerslingen.de/index.php?option=com_jem&view=event&id=19
 13:vorentscheid-kreisklassenpokal\n
DTSTART:20231209T120000Z
DTEND:20231209T120000Z
LOCATION:SSV Höchstädt\,Pfalz-Neuburg-Straße 23\,89420 Höchstädt
SUMMARY:Vorentscheid Kreisklassenpokal
URL:https://www.skk-moerslingen.de/index.php?option=com_jem&view=event&id=1
 913:vorentscheid-kreisklassenpokal
END:VEVENT
END:VCALENDAR