BEGIN:VCALENDAR
VERSION:2.0
PRODID:-//94.130.255.168//NONSGML kigkonsult.se iCalcreator 2.20//
CALSCALE:GREGORIAN
METHOD:PUBLISH
X-WR-TIMEZONE:UTC
BEGIN:VEVENT
UID:event140@SKK Mörslingen
DTSTAMP:20260421T084213Z
CATEGORIES:Punktspiel Jugend U14
DESCRIPTION:SG Rain/Mörslingen - KC Munningen 2\nKategorie: Punktspiel Juge
 nd U14\nICS-Link: https://www.skk-moerslingen.de/index.php?option=com_jem&
 view=event&id=140:sg-rainmoerslingen-kc-munningen-2\n
DTSTART:20111028T170000Z
DTEND:20111028T170000Z
LOCATION:TSV Sportheim\,Donauwörther Straße 43\,86641 Rain
SUMMARY:SG Rain/Mörslingen - KC Munningen 2
URL:https://www.skk-moerslingen.de/index.php?option=com_jem&view=event&id=1
 40:sg-rainmoerslingen-kc-munningen-2
END:VEVENT
END:VCALENDAR