BEGIN:VCALENDAR
VERSION:2.0
PRODID:-//94.130.255.168//NONSGML kigkonsult.se iCalcreator 2.20//
CALSCALE:GREGORIAN
METHOD:PUBLISH
X-WR-TIMEZONE:UTC
BEGIN:VEVENT
UID:event136@SKK Mörslingen
DTSTAMP:20260423T091357Z
CATEGORIES:Punktspiel Jugend U14
DESCRIPTION:KC Munningen 2 - SG Rain/Mörslingen\nKategorie: Punktspiel Juge
 nd U14\nICS-Link: https://www.skk-moerslingen.de/index.php?option=com_jem&
 view=event&id=136:kc-munningen-2-sg-rainmoerslingen\n
DTSTART:20110916T170000Z
DTEND:20110916T170000Z
LOCATION:Schützenhaus\,Schützenstraße\,86754 Munningen
SUMMARY:KC Munningen 2 - SG Rain/Mörslingen
URL:https://www.skk-moerslingen.de/index.php?option=com_jem&view=event&id=1
 36:kc-munningen-2-sg-rainmoerslingen
END:VEVENT
END:VCALENDAR